BEGIN:VCALENDAR
VERSION:2.0
PRODID:-//Queens Park Chess Club - ECPv6.15.20//NONSGML v1.0//EN
CALSCALE:GREGORIAN
METHOD:PUBLISH
X-WR-CALNAME:Queens Park Chess Club
X-ORIGINAL-URL:https://queensparkchessclub.com
X-WR-CALDESC:Events for Queens Park Chess Club
REFRESH-INTERVAL;VALUE=DURATION:PT1H
X-Robots-Tag:noindex
X-PUBLISHED-TTL:PT1H
BEGIN:VTIMEZONE
TZID:Europe/London
BEGIN:DAYLIGHT
TZOFFSETFROM:+0000
TZOFFSETTO:+0100
TZNAME:BST
DTSTART:20250330T010000
END:DAYLIGHT
BEGIN:STANDARD
TZOFFSETFROM:+0100
TZOFFSETTO:+0000
TZNAME:GMT
DTSTART:20251026T010000
END:STANDARD
BEGIN:DAYLIGHT
TZOFFSETFROM:+0000
TZOFFSETTO:+0100
TZNAME:BST
DTSTART:20260329T010000
END:DAYLIGHT
BEGIN:STANDARD
TZOFFSETFROM:+0100
TZOFFSETTO:+0000
TZNAME:GMT
DTSTART:20261025T010000
END:STANDARD
BEGIN:DAYLIGHT
TZOFFSETFROM:+0000
TZOFFSETTO:+0100
TZNAME:BST
DTSTART:20270328T010000
END:DAYLIGHT
BEGIN:STANDARD
TZOFFSETFROM:+0100
TZOFFSETTO:+0000
TZNAME:GMT
DTSTART:20271031T010000
END:STANDARD
END:VTIMEZONE
BEGIN:VEVENT
DTSTART;TZID=Europe/London:20260106T183000
DTEND;TZID=Europe/London:20260106T213000
DTSTAMP:20260421T144953
CREATED:20250913T162943Z
LAST-MODIFIED:20250913T162946Z
UID:3771-1767724200-1767735000@queensparkchessclub.com
SUMMARY:Casual Chess
DESCRIPTION:Casual chess with no formal events on.
URL:https://queensparkchessclub.com/calendar/casual-chess/
LOCATION:The Bungo\, Nithsdale Road\, Glasgow\, 17-21 Nithsdale Road\, Glasgow\, G41 2AL\, United Kingdom
END:VEVENT
BEGIN:VEVENT
DTSTART;TZID=Europe/London:20260113T183000
DTEND;TZID=Europe/London:20260113T213000
DTSTAMP:20260421T144953
CREATED:20250913T163111Z
LAST-MODIFIED:20250913T170515Z
UID:3773-1768329000-1768339800@queensparkchessclub.com
SUMMARY:League Match
DESCRIPTION:Glasgow Divison 2: Queens Park A vs East Kilbide. \n\n\n\nDumbarton Division 2: Queens Park vs Hamilton C.
URL:https://queensparkchessclub.com/calendar/league-match-17/
LOCATION:The Bungo\, Nithsdale Road\, Glasgow\, 17-21 Nithsdale Road\, Glasgow\, G41 2AL\, United Kingdom
END:VEVENT
BEGIN:VEVENT
DTSTART;TZID=Europe/London:20260120T183000
DTEND;TZID=Europe/London:20260120T213000
DTSTAMP:20260421T144953
CREATED:20250913T163308Z
LAST-MODIFIED:20250913T163311Z
UID:3775-1768933800-1768944600@queensparkchessclub.com
SUMMARY:League Match
DESCRIPTION:Glasgow Division 3: Queens Park B vs Glasgow Polytechnic C. \n\n\n\nGlasgow Division 4: Queens Park D vs Renfrewshire B.
URL:https://queensparkchessclub.com/calendar/league-match-18/
LOCATION:The Bungo\, Nithsdale Road\, Glasgow\, 17-21 Nithsdale Road\, Glasgow\, G41 2AL\, United Kingdom
END:VEVENT
BEGIN:VEVENT
DTSTART;TZID=Europe/London:20260127T183000
DTEND;TZID=Europe/London:20260127T213000
DTSTAMP:20260421T144953
CREATED:20250913T163416Z
LAST-MODIFIED:20260121T172132Z
UID:3777-1769538600-1769549400@queensparkchessclub.com
SUMMARY:Club Championship
DESCRIPTION:Round 4/7 of the Club Championship. Games start at 7:15pm.
URL:https://queensparkchessclub.com/calendar/club-championship-3/
END:VEVENT
END:VCALENDAR