BEGIN:VCALENDAR
VERSION:2.0
PRODID:-//Queens Park Chess Club - ECPv6.15.20//NONSGML v1.0//EN
CALSCALE:GREGORIAN
METHOD:PUBLISH
X-WR-CALNAME:Queens Park Chess Club
X-ORIGINAL-URL:https://queensparkchessclub.com
X-WR-CALDESC:Events for Queens Park Chess Club
REFRESH-INTERVAL;VALUE=DURATION:PT1H
X-Robots-Tag:noindex
X-PUBLISHED-TTL:PT1H
BEGIN:VTIMEZONE
TZID:Europe/London
BEGIN:DAYLIGHT
TZOFFSETFROM:+0000
TZOFFSETTO:+0100
TZNAME:BST
DTSTART:20240331T010000
END:DAYLIGHT
BEGIN:STANDARD
TZOFFSETFROM:+0100
TZOFFSETTO:+0000
TZNAME:GMT
DTSTART:20241027T010000
END:STANDARD
BEGIN:DAYLIGHT
TZOFFSETFROM:+0000
TZOFFSETTO:+0100
TZNAME:BST
DTSTART:20250330T010000
END:DAYLIGHT
BEGIN:STANDARD
TZOFFSETFROM:+0100
TZOFFSETTO:+0000
TZNAME:GMT
DTSTART:20251026T010000
END:STANDARD
BEGIN:DAYLIGHT
TZOFFSETFROM:+0000
TZOFFSETTO:+0100
TZNAME:BST
DTSTART:20260329T010000
END:DAYLIGHT
BEGIN:STANDARD
TZOFFSETFROM:+0100
TZOFFSETTO:+0000
TZNAME:GMT
DTSTART:20261025T010000
END:STANDARD
END:VTIMEZONE
BEGIN:VEVENT
DTSTART;TZID=Europe/London:20251104T183000
DTEND;TZID=Europe/London:20251104T213000
DTSTAMP:20260421T181525
CREATED:20250913T161702Z
LAST-MODIFIED:20250913T165808Z
UID:3753-1762281000-1762291800@queensparkchessclub.com
SUMMARY:Casual Chess
DESCRIPTION:Casual chess night with no formal events on.
URL:https://queensparkchessclub.com/calendar/casual-night-3/
LOCATION:The Bungo\, Nithsdale Road\, Glasgow\, 17-21 Nithsdale Road\, Glasgow\, G41 2AL\, United Kingdom
END:VEVENT
BEGIN:VEVENT
DTSTART;TZID=Europe/London:20251111T183000
DTEND;TZID=Europe/London:20251111T213000
DTSTAMP:20260421T181525
CREATED:20250913T161814Z
LAST-MODIFIED:20250913T165851Z
UID:3755-1762885800-1762896600@queensparkchessclub.com
SUMMARY:League Match
DESCRIPTION:Glasgow Division 3: Queens Park C vs Paisley C.
URL:https://queensparkchessclub.com/calendar/league-match-13/
LOCATION:The Bungo\, Nithsdale Road\, Glasgow\, 17-21 Nithsdale Road\, Glasgow\, G41 2AL\, United Kingdom
END:VEVENT
BEGIN:VEVENT
DTSTART;TZID=Europe/London:20251118T183000
DTEND;TZID=Europe/London:20251118T213000
DTSTAMP:20260421T181525
CREATED:20250913T161944Z
LAST-MODIFIED:20250913T165953Z
UID:3757-1763490600-1763501400@queensparkchessclub.com
SUMMARY:League Match
DESCRIPTION:Glasgow Division 3: Queens Park B vs Hamilton B. \n\n\n\nGlasgow Division 4: Queens Park D vs Cathcart D.
URL:https://queensparkchessclub.com/calendar/league-match-14/
LOCATION:The Bungo\, Nithsdale Road\, Glasgow\, 17-21 Nithsdale Road\, Glasgow\, G41 2AL\, United Kingdom
END:VEVENT
BEGIN:VEVENT
DTSTART;TZID=Europe/London:20251125T183000
DTEND;TZID=Europe/London:20251125T213000
DTSTAMP:20260421T181525
CREATED:20250913T162039Z
LAST-MODIFIED:20250913T170023Z
UID:3759-1764095400-1764106200@queensparkchessclub.com
SUMMARY:Club Championshp
DESCRIPTION:Round 3/7 of the club Championship. Games start at 7:15pm.
URL:https://queensparkchessclub.com/calendar/club-championshp/
LOCATION:The Bungo\, Nithsdale Road\, Glasgow\, 17-21 Nithsdale Road\, Glasgow\, G41 2AL\, United Kingdom
END:VEVENT
END:VCALENDAR