BEGIN:VCALENDAR
VERSION:2.0
PRODID:-//Queens Park Chess Club - ECPv6.15.20//NONSGML v1.0//EN
CALSCALE:GREGORIAN
METHOD:PUBLISH
X-WR-CALNAME:Queens Park Chess Club
X-ORIGINAL-URL:https://queensparkchessclub.com
X-WR-CALDESC:Events for Queens Park Chess Club
REFRESH-INTERVAL;VALUE=DURATION:PT1H
X-Robots-Tag:noindex
X-PUBLISHED-TTL:PT1H
BEGIN:VTIMEZONE
TZID:Europe/London
BEGIN:DAYLIGHT
TZOFFSETFROM:+0000
TZOFFSETTO:+0100
TZNAME:BST
DTSTART:20240331T010000
END:DAYLIGHT
BEGIN:STANDARD
TZOFFSETFROM:+0100
TZOFFSETTO:+0000
TZNAME:GMT
DTSTART:20241027T010000
END:STANDARD
BEGIN:DAYLIGHT
TZOFFSETFROM:+0000
TZOFFSETTO:+0100
TZNAME:BST
DTSTART:20250330T010000
END:DAYLIGHT
BEGIN:STANDARD
TZOFFSETFROM:+0100
TZOFFSETTO:+0000
TZNAME:GMT
DTSTART:20251026T010000
END:STANDARD
BEGIN:DAYLIGHT
TZOFFSETFROM:+0000
TZOFFSETTO:+0100
TZNAME:BST
DTSTART:20260329T010000
END:DAYLIGHT
BEGIN:STANDARD
TZOFFSETFROM:+0100
TZOFFSETTO:+0000
TZNAME:GMT
DTSTART:20261025T010000
END:STANDARD
END:VTIMEZONE
BEGIN:VEVENT
DTSTART;TZID=Europe/London:20250902T183000
DTEND;TZID=Europe/London:20250902T213000
DTSTAMP:20260421T211801
CREATED:20250913T160403Z
LAST-MODIFIED:20250913T160406Z
UID:3732-1756837800-1756848600@queensparkchessclub.com
SUMMARY:First Night of The Season
DESCRIPTION:Casual chess only.
URL:https://queensparkchessclub.com/calendar/first-night-of-the-season/
LOCATION:106 Torrisdale St\, Glasgow G42
END:VEVENT
BEGIN:VEVENT
DTSTART;TZID=Europe/London:20250909T183000
DTEND;TZID=Europe/London:20250909T213000
DTSTAMP:20260421T211801
CREATED:20250913T160604Z
LAST-MODIFIED:20250913T160607Z
UID:3735-1757442600-1757453400@queensparkchessclub.com
SUMMARY:Freshers Night 01
DESCRIPTION:The first of two freshers night where the club introduces new members and visitors to competitive chess. Examples of topics covered include: Using a clock\, chess etiquette\, competitive rules\, the various ways to achieve checkmate and stalemate + more.
URL:https://queensparkchessclub.com/calendar/freshers-night-01/
LOCATION:106 Torrisdale St\, Glasgow G42
END:VEVENT
BEGIN:VEVENT
DTSTART;TZID=Europe/London:20250916T183000
DTEND;TZID=Europe/London:20250916T213000
DTSTAMP:20260421T211801
CREATED:20250913T160717Z
LAST-MODIFIED:20250913T165334Z
UID:3737-1758047400-1758058200@queensparkchessclub.com
SUMMARY:Freshers Night 02
DESCRIPTION:The second of two freshers nights where the club introduces new members and visitors to competitive chess.
URL:https://queensparkchessclub.com/calendar/freshers-night-02/
LOCATION:106 Torrisdale St\, Glasgow G42
END:VEVENT
BEGIN:VEVENT
DTSTART;TZID=Europe/London:20250923T183000
DTEND;TZID=Europe/London:20250923T213000
DTSTAMP:20260421T211801
CREATED:20250913T160811Z
LAST-MODIFIED:20250913T160845Z
UID:3739-1758652200-1758663000@queensparkchessclub.com
SUMMARY:Casual Chess
DESCRIPTION:Casual chess night with no formal events on.
URL:https://queensparkchessclub.com/calendar/3739/
LOCATION:106 Torrisdale St\, Glasgow G42
END:VEVENT
BEGIN:VEVENT
DTSTART;TZID=Europe/London:20250930T183000
DTEND;TZID=Europe/London:20250930T213000
DTSTAMP:20260421T211801
CREATED:20250913T161023Z
LAST-MODIFIED:20250913T165425Z
UID:3743-1759257000-1759267800@queensparkchessclub.com
SUMMARY:Club Championship
DESCRIPTION:Round 1/7 of the club championship. Games start at 7pm.
URL:https://queensparkchessclub.com/calendar/club-championship/
LOCATION:106 Torrisdale St\, Glasgow G42
END:VEVENT
END:VCALENDAR