BEGIN:VCALENDAR
VERSION:2.0
PRODID:-//Queens Park Chess Club - ECPv6.15.20//NONSGML v1.0//EN
CALSCALE:GREGORIAN
METHOD:PUBLISH
X-ORIGINAL-URL:https://queensparkchessclub.com
X-WR-CALDESC:Events for Queens Park Chess Club
REFRESH-INTERVAL;VALUE=DURATION:PT1H
X-Robots-Tag:noindex
X-PUBLISHED-TTL:PT1H
BEGIN:VTIMEZONE
TZID:Europe/London
BEGIN:DAYLIGHT
TZOFFSETFROM:+0000
TZOFFSETTO:+0100
TZNAME:BST
DTSTART:20250330T010000
END:DAYLIGHT
BEGIN:STANDARD
TZOFFSETFROM:+0100
TZOFFSETTO:+0000
TZNAME:GMT
DTSTART:20251026T010000
END:STANDARD
BEGIN:DAYLIGHT
TZOFFSETFROM:+0000
TZOFFSETTO:+0100
TZNAME:BST
DTSTART:20260329T010000
END:DAYLIGHT
BEGIN:STANDARD
TZOFFSETFROM:+0100
TZOFFSETTO:+0000
TZNAME:GMT
DTSTART:20261025T010000
END:STANDARD
BEGIN:DAYLIGHT
TZOFFSETFROM:+0000
TZOFFSETTO:+0100
TZNAME:BST
DTSTART:20270328T010000
END:DAYLIGHT
BEGIN:STANDARD
TZOFFSETFROM:+0100
TZOFFSETTO:+0000
TZNAME:GMT
DTSTART:20271031T010000
END:STANDARD
END:VTIMEZONE
BEGIN:VEVENT
DTSTART;TZID=Europe/London:20260203T183000
DTEND;TZID=Europe/London:20260203T213000
DTSTAMP:20260421T144209
CREATED:20250913T163605Z
LAST-MODIFIED:20260121T172226Z
UID:3779-1770143400-1770154200@queensparkchessclub.com
SUMMARY:League Match
DESCRIPTION:Glasgow Division 2: Queens Park A vs Glasgow Polytechnic B. \n\n\n\nGlasgow Division 3: Queens Park C vs Bellshill B.
URL:https://queensparkchessclub.com/calendar/league-match-19/
END:VEVENT
BEGIN:VEVENT
DTSTART;TZID=Europe/London:20260210T183000
DTEND;TZID=Europe/London:20260210T213000
DTSTAMP:20260421T144209
CREATED:20250913T163850Z
LAST-MODIFIED:20260121T172309Z
UID:3781-1770748200-1770759000@queensparkchessclub.com
SUMMARY:League Match
DESCRIPTION:Glasgow Division 3: Queens Park C vs Bearsden B. \n\n\n\nGlasgow Division 4: Queens Park D vs Phones C.
URL:https://queensparkchessclub.com/calendar/league-match-20/
END:VEVENT
BEGIN:VEVENT
DTSTART;TZID=Europe/London:20260217T183000
DTEND;TZID=Europe/London:20260217T213000
DTSTAMP:20260421T144209
CREATED:20250913T164046Z
LAST-MODIFIED:20250913T164049Z
UID:3783-1771353000-1771363800@queensparkchessclub.com
SUMMARY:League Match
DESCRIPTION:Dumbarton Division 2: Queens Park vs Phones C.
URL:https://queensparkchessclub.com/calendar/league-match-21/
LOCATION:The Bungo\, Nithsdale Road\, Glasgow\, 17-21 Nithsdale Road\, Glasgow\, G41 2AL\, United Kingdom
END:VEVENT
BEGIN:VEVENT
DTSTART;TZID=Europe/London:20260224T183000
DTEND;TZID=Europe/London:20260224T213000
DTSTAMP:20260421T144209
CREATED:20250913T164149Z
LAST-MODIFIED:20260121T172347Z
UID:3785-1771957800-1771968600@queensparkchessclub.com
SUMMARY:Club Championship
DESCRIPTION:Round 5/7 of the Club Championship. Games start at 7:15pm.
URL:https://queensparkchessclub.com/calendar/club-championship-4/
END:VEVENT
BEGIN:VEVENT
DTSTART;TZID=Europe/London:20260310T183000
DTEND;TZID=Europe/London:20260310T213000
DTSTAMP:20260421T144209
CREATED:20250913T164251Z
LAST-MODIFIED:20260121T172428Z
UID:3787-1773167400-1773178200@queensparkchessclub.com
SUMMARY:League Match
DESCRIPTION:Glasgow Divison 3: Queens Park B vs Cathcart C.
URL:https://queensparkchessclub.com/calendar/league-match-22/
END:VEVENT
BEGIN:VEVENT
DTSTART;TZID=Europe/London:20260317T183000
DTEND;TZID=Europe/London:20260317T213000
DTSTAMP:20260421T144209
CREATED:20250913T164426Z
LAST-MODIFIED:20260121T172539Z
UID:3789-1773772200-1773783000@queensparkchessclub.com
SUMMARY:Spring Blitz
DESCRIPTION:Third of 3 blitz events. Members only. 7 rounds with a time-mode of 3+2.
URL:https://queensparkchessclub.com/calendar/spring-blitz/
END:VEVENT
BEGIN:VEVENT
DTSTART;TZID=Europe/London:20260324T183000
DTEND;TZID=Europe/London:20260324T213000
DTSTAMP:20260421T144209
CREATED:20250913T164617Z
LAST-MODIFIED:20260121T172620Z
UID:3791-1774377000-1774387800@queensparkchessclub.com
SUMMARY:League Match
DESCRIPTION:Glasgow Division 3: Queens Park C vs Stepps C. \n\n\n\nDumbarton Division 2: Queens Park vs Glasgow Montrose.
URL:https://queensparkchessclub.com/calendar/league-match-23/
END:VEVENT
BEGIN:VEVENT
DTSTART;TZID=Europe/London:20260331T183000
DTEND;TZID=Europe/London:20260331T213000
DTSTAMP:20260421T144209
CREATED:20250913T164731Z
LAST-MODIFIED:20260121T172706Z
UID:3793-1774981800-1774992600@queensparkchessclub.com
SUMMARY:Club Championship
DESCRIPTION:Round 6/7 of the Club Championship. Games start at 7:15pm.
URL:https://queensparkchessclub.com/calendar/club-championship-5/
END:VEVENT
BEGIN:VEVENT
DTSTART;TZID=Europe/London:20260414T183000
DTEND;TZID=Europe/London:20260414T213000
DTSTAMP:20260421T144209
CREATED:20250913T164907Z
LAST-MODIFIED:20260121T172810Z
UID:3795-1776191400-1776202200@queensparkchessclub.com
SUMMARY:League Match
DESCRIPTION:Glasgow Division 2: Queens Park A vs Stepps B. \n\n\n\nGlasgow Division 4: Queens Park D vs Bearsden C.
URL:https://queensparkchessclub.com/calendar/league-match-24/
END:VEVENT
BEGIN:VEVENT
DTSTART;TZID=Europe/London:20260421T183000
DTEND;TZID=Europe/London:20260421T213000
DTSTAMP:20260421T144209
CREATED:20250913T165030Z
LAST-MODIFIED:20260121T172912Z
UID:3797-1776796200-1776807000@queensparkchessclub.com
SUMMARY:League Match
DESCRIPTION:Dumbarton Division 2: Queens Park vs Hamilton B.
URL:https://queensparkchessclub.com/calendar/league-match-25/
END:VEVENT
BEGIN:VEVENT
DTSTART;TZID=Europe/London:20260428T183000
DTEND;TZID=Europe/London:20260428T213000
DTSTAMP:20260421T144209
CREATED:20250913T165120Z
LAST-MODIFIED:20260121T172953Z
UID:3799-1777401000-1777411800@queensparkchessclub.com
SUMMARY:Club Championship
DESCRIPTION:Round 7/7 of the Club Championship. Games start at 7:15pm.
URL:https://queensparkchessclub.com/calendar/club-championship-6/
END:VEVENT
BEGIN:VEVENT
DTSTART;TZID=Europe/London:20260526T183000
DTEND;TZID=Europe/London:20260526T213000
DTSTAMP:20260421T144209
CREATED:20250913T165239Z
LAST-MODIFIED:20260121T171957Z
UID:3801-1779820200-1779831000@queensparkchessclub.com
SUMMARY:Annual Group Meeting (AGM)
DESCRIPTION:Annual group meeting to elect committee members and make collective decisions. Members only. No chess will take place.
URL:https://queensparkchessclub.com/calendar/annual-group-meeting-agm/
END:VEVENT
END:VCALENDAR