BEGIN:VCALENDAR
VERSION:2.0
PRODID:-//Queens Park Chess Club - ECPv6.15.20//NONSGML v1.0//EN
CALSCALE:GREGORIAN
METHOD:PUBLISH
X-WR-CALNAME:Queens Park Chess Club
X-ORIGINAL-URL:https://queensparkchessclub.com
X-WR-CALDESC:Events for Queens Park Chess Club
REFRESH-INTERVAL;VALUE=DURATION:PT1H
X-Robots-Tag:noindex
X-PUBLISHED-TTL:PT1H
BEGIN:VTIMEZONE
TZID:Europe/London
BEGIN:DAYLIGHT
TZOFFSETFROM:+0000
TZOFFSETTO:+0100
TZNAME:BST
DTSTART:20240331T010000
END:DAYLIGHT
BEGIN:STANDARD
TZOFFSETFROM:+0100
TZOFFSETTO:+0000
TZNAME:GMT
DTSTART:20241027T010000
END:STANDARD
BEGIN:DAYLIGHT
TZOFFSETFROM:+0000
TZOFFSETTO:+0100
TZNAME:BST
DTSTART:20250330T010000
END:DAYLIGHT
BEGIN:STANDARD
TZOFFSETFROM:+0100
TZOFFSETTO:+0000
TZNAME:GMT
DTSTART:20251026T010000
END:STANDARD
BEGIN:DAYLIGHT
TZOFFSETFROM:+0000
TZOFFSETTO:+0100
TZNAME:BST
DTSTART:20260329T010000
END:DAYLIGHT
BEGIN:STANDARD
TZOFFSETFROM:+0100
TZOFFSETTO:+0000
TZNAME:GMT
DTSTART:20261025T010000
END:STANDARD
END:VTIMEZONE
BEGIN:VEVENT
DTSTART;TZID=Europe/London:20250513T190000
DTEND;TZID=Europe/London:20250513T213000
DTSTAMP:20260422T000818
CREATED:20241017T090603Z
LAST-MODIFIED:20241017T090605Z
UID:3460-1747162800-1747171800@queensparkchessclub.com
SUMMARY:Simultaneous Exhibition
DESCRIPTION:IM Andrew Greet will perform a simultaneous exhibition against approximately 25 of our members.
URL:https://queensparkchessclub.com/calendar/simultaneous-exhibition/
LOCATION:The Bungo\, Nithsdale Road\, Glasgow\, 17-21 Nithsdale Road\, Glasgow\, G41 2AL\, United Kingdom
END:VEVENT
BEGIN:VEVENT
DTSTART;TZID=Europe/London:20250429T183000
DTEND;TZID=Europe/London:20250429T213000
DTSTAMP:20260422T000818
CREATED:20240923T164731Z
LAST-MODIFIED:20240923T165723Z
UID:3387-1745951400-1745962200@queensparkchessclub.com
SUMMARY:Club Championship - Round 7
DESCRIPTION:The final round of our Club Championship will be taking place\, starting from 7pm.
URL:https://queensparkchessclub.com/calendar/club-championship-round-7/
LOCATION:The Bungo\, Nithsdale Road\, Glasgow\, 17-21 Nithsdale Road\, Glasgow\, G41 2AL\, United Kingdom
END:VEVENT
END:VCALENDAR